BEGIN:VCALENDAR
VERSION:2.0
PRODID:interatmedia
METHOD:PUBLISH
BEGIN:VEVENT
UID:60077611871@interatmedia.de
LOCATION:Online-Seminar
SUMMARY:ONLINE-Impulsvortrag: Digitale Themen 2026 im Überblick 
DESCRIPTION:<p><strong>Das Seminar fasst alle relevanten digitalen Themen des Jahres 2026 kompakt zusammen. </strong><strong><br /> Erfahren Sie in knapp drei&szlig\;ig Minuten\, wie Sie bestehende Prozesse im t&auml\;glichen Arbeitsablauf mittels technologischer Entwicklungen optimieren k&ouml\;nnen.</strong> <br /> <br /> Nutzen Sie das Seminar\, um sich und Ihre Mitarbeiter im ersten Schritt kurz und pr&auml\;gnant auf den neuesten Stand zu bringen. <br /> Bei weiterf&uuml\;hrendem Interesse besteht zudem die M&ouml\;glichkeit\, an vertiefenden Fachseminaren je Themenblock teilzunehmen.<br /> <br /> Dieser Impulsvortrag ist f&uuml\;r alle Handwerksbetriebe\, die bei der Digitalisierung am Ball bleiben wollen &ndash\; egal ob Sie gerade starten oder schon mittendrin sind.<br /> <br /> <br /> <br /> <strong>Inhalte des Seminars:</strong><br /> &bull\; IDS/OMD-Schnittstellen</p>
<p>- Effiziente Materialwirtschaft und l&uuml\;ckenlose Dokumentation</p>
<ul>
<li>Auszug E-Rechnung</li>
</ul>
<p>- Vorteile der E-Rechnung und aktuelle Fristen</p>
<ul>
<li>GoBD / Verfahrensdokumentation</li>
</ul>
<p>- Definition und Grunds&auml\;tze</p>
<ul>
<li>Digitale Arbeitszeiterfassung</li>
</ul>
<p>- Digitale Kommunikation mit mobilen Endger&auml\;ten\, Dokumentation &amp\; Echtzeitdaten</p>
<ul>
<li>IT-Sicherheit in den Handwerksbetrieben</li>
</ul>
<p>- Tipps f&uuml\;r sichere Passw&ouml\;rter\, Backup-Strukturen und Schutz vor Datenverlust</p>
<ul>
<li>KI im Handwerk</li>
</ul>
<p>- Texte schreiben lassen\, die Website optimieren\, Kundenanfragen automatisieren &ndash\;&nbsp\;wie KI konkret im Handwerksalltag unterst&uuml\;tzt.</p>
<ul>
<li>Diskussionsrunde und Austausch</li>
</ul>
<br />
CLASS:PUBLIC
DTSTART:20260312T100000
DTEND:20260312T104500
DTSTAMP:20262504T234812Z
END:VEVENT
END:VCALENDAR