BEGIN:VCALENDAR
VERSION:2.0
PRODID:interatmedia
METHOD:PUBLISH
BEGIN:VEVENT
UID:49911902050@interatmedia.de
LOCATION:Servicehaus Handwerk
SUMMARY:Brandschutzhelferausbildung 
DESCRIPTION:<p>in Zusammenarbeit mit der Firma 1000 Grad Brandschutz\, R&ouml\;srath bieten wir allen Innungsmitgliedern\, eine praxisnahe und qualit&auml\;tsgesicherte Schulung zum Brandschutzhelfer an.</p>
CLASS:PUBLIC
DTSTART:20251117T100000
DTEND:20251117T150000
DTSTAMP:20262504T234812Z
END:VEVENT
END:VCALENDAR