BEGIN:VCALENDAR
VERSION:2.0
PRODID:interatmedia
METHOD:PUBLISH
BEGIN:VEVENT
UID:91075249369@interatmedia.de
LOCATION:Servicehaus Handwerk
SUMMARY:Brandschutzhelferausbildung 
DESCRIPTION:<p>in Zusammenarbeit mit der Firma 1000 Grad Brandschutz\, R&ouml\;srath bieten wir allen Innungsmitgliedern\, eine praxisnahe und qualit&auml\;tsgesicherte Schulung zum Brandschutzhelfer an.</p>
CLASS:PUBLIC
DTSTART:20251114T120000
DTEND:20251114T170000
DTSTAMP:20262504T234803Z
END:VEVENT
END:VCALENDAR